BEGIN:VCALENDAR
VERSION:2.0
PRODID:-//PCA Zone 6 - ECPv6.15.17//NONSGML v1.0//EN
CALSCALE:GREGORIAN
METHOD:PUBLISH
X-WR-CALNAME:PCA Zone 6
X-ORIGINAL-URL:https://zone6.pca.org
X-WR-CALDESC:Events for PCA Zone 6
REFRESH-INTERVAL;VALUE=DURATION:PT1H
X-Robots-Tag:noindex
X-PUBLISHED-TTL:PT1H
BEGIN:VTIMEZONE
TZID:America/Los_Angeles
BEGIN:DAYLIGHT
TZOFFSETFROM:-0800
TZOFFSETTO:-0700
TZNAME:PDT
DTSTART:20240310T100000
END:DAYLIGHT
BEGIN:STANDARD
TZOFFSETFROM:-0700
TZOFFSETTO:-0800
TZNAME:PST
DTSTART:20241103T090000
END:STANDARD
BEGIN:DAYLIGHT
TZOFFSETFROM:-0800
TZOFFSETTO:-0700
TZNAME:PDT
DTSTART:20250309T100000
END:DAYLIGHT
BEGIN:STANDARD
TZOFFSETFROM:-0700
TZOFFSETTO:-0800
TZNAME:PST
DTSTART:20251102T090000
END:STANDARD
BEGIN:DAYLIGHT
TZOFFSETFROM:-0800
TZOFFSETTO:-0700
TZNAME:PDT
DTSTART:20260308T100000
END:DAYLIGHT
BEGIN:STANDARD
TZOFFSETFROM:-0700
TZOFFSETTO:-0800
TZNAME:PST
DTSTART:20261101T090000
END:STANDARD
END:VTIMEZONE
BEGIN:VEVENT
DTSTART;TZID=America/Los_Angeles:20250815T080000
DTEND;TZID=America/Los_Angeles:20250815T170000
DTSTAMP:20260421T063845
CREATED:20250216T082100Z
LAST-MODIFIED:20250217T020759Z
UID:10000016-1755244800-1755277200@zone6.pca.org
SUMMARY:Werks Reunion Monterey
DESCRIPTION:Werks Reunion Monterey\nAugust 15\n@\n8:00 am\n–\n5:00 pm \nWerks Reunion Monterey\nMonterey Pines Golf Course\n1250 Garden Road\nMonterey\, CA 93940\nAugust 15\, 2025\nEvent Page
URL:https://zone6.pca.org/event/werks-reunion-monterey/
ATTACH;FMTTYPE=image/jpeg:https://zone6.pca.org/wp-content/uploads/2025/02/logomonterey.jpg
END:VEVENT
END:VCALENDAR