BEGIN:VCALENDAR
VERSION:2.0
PRODID:-//PCA Zone 6 - ECPv6.15.17//NONSGML v1.0//EN
CALSCALE:GREGORIAN
METHOD:PUBLISH
X-ORIGINAL-URL:https://zone6.pca.org
X-WR-CALDESC:Events for PCA Zone 6
REFRESH-INTERVAL;VALUE=DURATION:PT1H
X-Robots-Tag:noindex
X-PUBLISHED-TTL:PT1H
BEGIN:VTIMEZONE
TZID:America/Los_Angeles
BEGIN:DAYLIGHT
TZOFFSETFROM:-0800
TZOFFSETTO:-0700
TZNAME:PDT
DTSTART:20240310T100000
END:DAYLIGHT
BEGIN:STANDARD
TZOFFSETFROM:-0700
TZOFFSETTO:-0800
TZNAME:PST
DTSTART:20241103T090000
END:STANDARD
BEGIN:DAYLIGHT
TZOFFSETFROM:-0800
TZOFFSETTO:-0700
TZNAME:PDT
DTSTART:20250309T100000
END:DAYLIGHT
BEGIN:STANDARD
TZOFFSETFROM:-0700
TZOFFSETTO:-0800
TZNAME:PST
DTSTART:20251102T090000
END:STANDARD
BEGIN:DAYLIGHT
TZOFFSETFROM:-0800
TZOFFSETTO:-0700
TZNAME:PDT
DTSTART:20260308T100000
END:DAYLIGHT
BEGIN:STANDARD
TZOFFSETFROM:-0700
TZOFFSETTO:-0800
TZNAME:PST
DTSTART:20261101T090000
END:STANDARD
END:VTIMEZONE
BEGIN:VEVENT
DTSTART;VALUE=DATE:20250430
DTEND;VALUE=DATE:20250505
DTSTAMP:20260421T034942
CREATED:20250216T070627Z
LAST-MODIFIED:20250216T071540Z
UID:10000012-1745971200-1746403199@zone6.pca.org
SUMMARY:Spring Treffen 2025
DESCRIPTION:Spring Treffen 2025\nApril 30\n–\nMay 5 \nBreak away from the mundane and escape to the Allegheny Mountains\, where you can unwind on a 2\,300-acre Virginia Estate\, the Omni Homestead.  Our four-diamond host resort recently completed a $156 million renovation and combines southern hospitality and elegant charm\, with premier luxury enjoyed by 23 U.S. Presidents and numerous celebrities\, movers and shakers during its illustrious history.  Our tours will travel on some of the best roads in the Southeast. \nEvent Page \n \nFollowing our tours\, or on the navigator’s day off (Saturday)\, you will have the opportunity to experience abundant sports and recreational opportunities or indulge in the comforts offered within the resort’s luxurious\, destination-worthy spa. You will not be disappointed in the opportunities for both stimulation and relaxation. \nThe event starts with a reception on Wednesday\, April 30th and ends with checking out on Sunday morning\, May 4\, 2025. Due to resort limitations and interest in this event\, we anticipate more demand than available registration spaces and fully expect registration to sell out quickly. \nGeneral registration is $775.  Additional information will be provided at https://treffen.pca.org in the months to come. Please read and revisit all the information on our website\, especially the FAQ/Terms section\, prior to registration as some information may change leading up to that date. \nYou can also check out additional information on our Facebook page at https://www.Facebook.com/treffennorthamerica. \nApril 30 – May 4\, 2025 \nOmni Homestead Resort\n7696 Sam Snead Highway\nHot Springs\, Virginia 24445 \n Registration Opens – Wednesday\, February 5\, 2025\, at 3:00 PM ET\n(Register for the event\, secure hotel room and register for tours) \nMORE INFORMATION ON THE HOST HOTEL CAN BE FOUND HERE
URL:https://zone6.pca.org/event/spring-treffen-2025/
ATTACH;FMTTYPE=image/jpeg:https://zone6.pca.org/wp-content/uploads/2025/02/Treffen-Spring-2025-1.jpg
END:VEVENT
BEGIN:VEVENT
DTSTART;VALUE=DATE:20250516
DTEND;VALUE=DATE:20250518
DTSTAMP:20260421T034942
CREATED:20250418T013344Z
LAST-MODIFIED:20250418T013344Z
UID:10000021-1747353600-1747526399@zone6.pca.org
SUMMARY:Greater Columbia: Wine Tour
DESCRIPTION:The Greater Columbia Region of PCA is hosting morning tours and lunches through some wonderful wine regions on this multi-day\, multi-meal\, multi-region event. Enjoy a morning drive in your Porsche through the picturesque Washington American Viticultural Areas of the Walla Walla Valley\, Yakima Valley\, and Columbia Valley. Feast on lunches of local fare and an opportunity to taste some great wines. (Washington Wine). Finish the two days with a social gathering for dinner\, car talk\, and cheer in the Tri-Cities at a private Sunset Dinner Cruise (www.water2winecruises.com) on the Columbia River departing from Richland. Please join us for all or select portions of this annual spring event. \nThe Sunset Dinner Cruise is a first for this event so don’t miss it! \nRegistration is now open on MSR here! \nFriday\, May 16th join the Greater Columbia Region for a backroads drive from Pasco to Walla Walla where we will enjoy a lunch prepared by Chef Penny at Brook & Bull Winery.  Lunch $35 – Wine $20 https://www.brookandbull.com/ \nSaturday morning\, May 17th join us for a backroads drive leaving from Richland. The drive will end at Columbia Gardens Urban Wine and Artisan Village. Here you will be on your own to select lunch from one of the many food trucks\, BBQ or lunch at one of the wineries. There are 4 wineries to visit at your leisure. https://portofkennewick.org/projects/columbia-gardens/ \nSaturday evening\, May 17th join us for a 2.5-hour sunset dinner cruise aboard the 74-foot luxury yacht WestStar by Water2Wine Cruises. We will take over the entire boat and enjoy a buffet dinner. Sunset Dinner Cruise- $130 per person. \nhttps://www.water2winecruises.com/
URL:https://zone6.pca.org/event/greater-columbia-wine-tour/
ATTACH;FMTTYPE=image/webp:https://zone6.pca.org/wp-content/uploads/2025/02/GCR_PCA_Logo-scaled-e1740889993519.webp
END:VEVENT
END:VCALENDAR